BEGIN:VCALENDAR
VERSION:2.0
PRODID:-//Le Belle Arti Aps - ECPv6.15.18//NONSGML v1.0//EN
CALSCALE:GREGORIAN
METHOD:PUBLISH
X-WR-CALNAME:Le Belle Arti Aps
X-ORIGINAL-URL:https://lebelleartiaps.it
X-WR-CALDESC:Eventi per Le Belle Arti Aps
REFRESH-INTERVAL;VALUE=DURATION:PT1H
X-Robots-Tag:noindex
X-PUBLISHED-TTL:PT1H
BEGIN:VTIMEZONE
TZID:UTC
BEGIN:STANDARD
TZOFFSETFROM:+0000
TZOFFSETTO:+0000
TZNAME:UTC
DTSTART:20240101T000000
END:STANDARD
END:VTIMEZONE
BEGIN:VEVENT
DTSTART;TZID=UTC:20251222T200000
DTEND;TZID=UTC:20251222T220000
DTSTAMP:20260423T083111
CREATED:20251213T193315Z
LAST-MODIFIED:20251213T193315Z
UID:3832-1766433600-1766440800@lebelleartiaps.it
SUMMARY:Spicchi di Barocco - prova aperta al pubblico
DESCRIPTION:Una prova aperta al pubblico con la partecipazione della maestra Sira Milani\, direttrice artistica del nostro coro gemello Luther King\, di S Paolo del Brasile\, nostra ospite per il concerto di gennaio che sarà oggetto della prova. \n“Spicchi di Barocco” \, due recite: il 16/1 a S. Maria alla Fonte (chiesa rossa)\, la seconda il 17/1 a S Maria dei Miracoli (presso S.Celso\, corso Italia). \nPartecipano coro misto Cantosospeso\, coro femminile Didone\, ensemble La Barca del 700. Direttrice Tais Conte Renzetti.
URL:https://lebelleartiaps.it/evento/spicchi-di-barocco-prova-aperta-al-pubblico/
LOCATION:Spazio Artè\, Stazione Porta Vittoria del Passante Ferroviario di Milano\, Milano\, Italy
CATEGORIES:Spazio Artè - Stazione di P.ta Vittoria
ATTACH;FMTTYPE=image/jpeg:https://lebelleartiaps.it/wp-content/uploads/2025/12/WhatsApp-Image-2025-12-13-at-10.46.19.jpeg
END:VEVENT
END:VCALENDAR