BEGIN:VCALENDAR
VERSION:2.0
PRODID:-//Le Belle Arti Aps - ECPv6.15.18//NONSGML v1.0//EN
CALSCALE:GREGORIAN
METHOD:PUBLISH
X-ORIGINAL-URL:https://lebelleartiaps.it
X-WR-CALDESC:Eventi per Le Belle Arti Aps
REFRESH-INTERVAL;VALUE=DURATION:PT1H
X-Robots-Tag:noindex
X-PUBLISHED-TTL:PT1H
BEGIN:VTIMEZONE
TZID:UTC
BEGIN:STANDARD
TZOFFSETFROM:+0000
TZOFFSETTO:+0000
TZNAME:UTC
DTSTART:20240101T000000
END:STANDARD
END:VTIMEZONE
BEGIN:VEVENT
DTSTART;TZID=UTC:20251122T150000
DTEND;TZID=UTC:20251122T180000
DTSTAMP:20260423T094615
CREATED:20251103T104357Z
LAST-MODIFIED:20251103T104357Z
UID:3727-1763823600-1763834400@lebelleartiaps.it
SUMMARY:La Coperta delle Donne
DESCRIPTION:Evento inserito nel programma a livello nazionele “Eredità delle Donne”\ncuratrice SERENA DANDINI\nDonazione di Alina Rizzi\nInaugurazione: 22 novembre ore  15:oo\na seguire\nREADING POESIE organizzata da Annitta De Mineo – Gruppo Bagutta (Sez. Letteratura)\n  \nUn intreccio di fili\, colori e storie femminili: La Coperta delle Donne\, ideata e coordinata dall’artista Alina Rizzi e dalla poetessa Annitta Di Mineo\, sarà esposta presso ArTé Galleria\, lo spazio situato nel mezzanino del Passante Ferroviario di Milano – Stazione di Porta Vittoria (Viale Molise\, tra via Cena e via Ortigara). \nIl 22 novembre\, dalle ore 15:30\, avverrà lo svelamento ufficiale di quest’opera collettiva in occasione della Giornata internazionale contro la violenza sulle donne (25 novembre 2025): un momento di condivisione\, memoria e impegno civile. \nSaranno presenti Ada Risi\, Presidente della Fondazione Artepassante\, Camillo Dedori\, Presidente de Le Belle Arti APS\, e Guido Poggiani\, Presidente del Gruppo Bagutta APS-ETS. \nNel corso della cerimonia\, l’artista Alina Rizzi donerà la Coperta delle Donne alla Fondazione Artepassante\, alla presenza di Annitta Di Mineo\, referente di Bagutta Letteratura. \nA seguire\, il reading poetico “Voci di Donne” vedrà protagoniste e protagonisti poeti provenienti da diverse associazioni e realtà del territorio\, per dare voce – attraverso l’arte e la parola – alla forza\, alla sensibilità e al coraggio delle donne di ogni tempo. \n  \nVisite su appuntamento: poggianiguido@gmail.com;  347 83 12124 \nLink al programma:\n>>  https://ereditadelledonne.eu/2025/programma-off/la-coperta-delle-donne/
URL:https://lebelleartiaps.it/evento/la-coperta-delle-donne/
LOCATION:Spazio Artè\, Stazione Porta Vittoria del Passante Ferroviario di Milano\, Milano\, Italy
CATEGORIES:Spazio Artè - Stazione di P.ta Vittoria
ATTACH;FMTTYPE=image/jpeg:https://lebelleartiaps.it/wp-content/uploads/2025/11/11_2025__COPERTA_Web.jpg
END:VEVENT
END:VCALENDAR