BEGIN:VCALENDAR
VERSION:2.0
PRODID:-//Le Belle Arti Aps - ECPv6.15.18//NONSGML v1.0//EN
CALSCALE:GREGORIAN
METHOD:PUBLISH
X-WR-CALNAME:Le Belle Arti Aps
X-ORIGINAL-URL:https://lebelleartiaps.it
X-WR-CALDESC:Eventi per Le Belle Arti Aps
REFRESH-INTERVAL;VALUE=DURATION:PT1H
X-Robots-Tag:noindex
X-PUBLISHED-TTL:PT1H
BEGIN:VTIMEZONE
TZID:UTC
BEGIN:STANDARD
TZOFFSETFROM:+0000
TZOFFSETTO:+0000
TZNAME:UTC
DTSTART:20240101T000000
END:STANDARD
END:VTIMEZONE
BEGIN:VEVENT
DTSTART;TZID=UTC:20250301T160000
DTEND;TZID=UTC:20250331T170000
DTSTAMP:20260423T203745
CREATED:20250306T111530Z
LAST-MODIFIED:20250306T111530Z
UID:3282-1740844800-1743440400@lebelleartiaps.it
SUMMARY:Khmer Rosso Sangue
DESCRIPTION:autori: Elisa Santoro e Salvatore Uccello\nCinquant’anni fa durante la Guerra Fredda è stata scritta una pagina di storia poco nota in Occidente ma particolarmente drammatica ed efferata: il Genocidio Cambogiano. \nIl 17 aprile 1975 i Khmer Rossi guidati da Pol Pot entrano nella capitale Phnom Penh\, dando il via a un regime di stampo comunista e a un processo di epurazione che causerà\, in poco meno di 4 anni\, oltre 1.500.000 di morti\, pari a circa un quarto dell’intera popolazione cambogiana. \nSpesso si parla di “genocidio culturale” perché i “nemici del popolo” erano principalmente politici ed amministratori del precedente regime\, gli intellettuali\, i liberi professionisti\, gli insegnanti e tutti coloro che\, in un modo o nell’altro\, esercitavano attività lontane dal lavoro manuale. \n\n  \nGiorni e orari di visita/su appuntamento:\nSabato e Domenica 11:00-12:30 / 15:00-18:00
URL:https://lebelleartiaps.it/evento/khmer-rosso-sangue/
LOCATION:Spazio Artè\, Stazione Porta Vittoria del Passante Ferroviario di Milano\, Milano\, Italy
CATEGORIES:Spazio Artè - Stazione di P.ta Vittoria
ATTACH;FMTTYPE=image/jpeg:https://lebelleartiaps.it/wp-content/uploads/2025/03/03_2025__Personale_Web.jpg
END:VEVENT
END:VCALENDAR