BEGIN:VCALENDAR
VERSION:2.0
PRODID:-//Le Belle Arti Aps - ECPv6.15.18//NONSGML v1.0//EN
CALSCALE:GREGORIAN
METHOD:PUBLISH
X-WR-CALNAME:Le Belle Arti Aps
X-ORIGINAL-URL:https://lebelleartiaps.it
X-WR-CALDESC:Eventi per Le Belle Arti Aps
REFRESH-INTERVAL;VALUE=DURATION:PT1H
X-Robots-Tag:noindex
X-PUBLISHED-TTL:PT1H
BEGIN:VTIMEZONE
TZID:UTC
BEGIN:STANDARD
TZOFFSETFROM:+0000
TZOFFSETTO:+0000
TZNAME:UTC
DTSTART:20250101T000000
END:STANDARD
END:VTIMEZONE
BEGIN:VEVENT
DTSTART;TZID=UTC:20260307T173000
DTEND;TZID=UTC:20260322T170000
DTSTAMP:20260421T080241
CREATED:20260224T101616Z
LAST-MODIFIED:20260224T101616Z
UID:4074-1772904600-1774198800@lebelleartiaps.it
SUMMARY:SUONOCOLORE 2026... E PAROLE
DESCRIPTION:di e con Itala Gasparini\, Marco Sobrero e l’antropologa Tullia Gianoncelli\nUn viaggio attraverso le primitive manifestazione delle emozioni trasformate in colore o segni\, un viaggio sensoriale ed espressivo personale di due artisti\, l’Architetto poi pittore… e la Pittrice poi architetto.\nLaboratorio “suoni colorluce”: venerdì 13 marzo – dalle 21:00 alle 22:00\nLaboratorio “ascolto-colore”: venerdì 20 marzo – dalle 17:30 alle 18:30 (per tutte le età) \nInfo: pittoribagutta@gmail.com \nLuogo Sede e spazio mostre GRUPPO BAGUTTA\nCorso Giuseppe Garibaldi 17 – Milano \nda sabato 7 a domenica 22 marzo 2026\ninaugurazione sabato 7 marzo ore 17:30 \nVisite guidate dal lunedì alla domenica dalle ore 15:00 alle ore 19:00
URL:https://lebelleartiaps.it/evento/suonocolore-2026-e-parole/
CATEGORIES:Eventi esterni
ATTACH;FMTTYPE=image/jpeg:https://lebelleartiaps.it/wp-content/uploads/2026/02/Trimosso-Gasoarini.jpg
END:VEVENT
BEGIN:VEVENT
DTSTART;TZID=UTC:20260310T193000
DTEND;TZID=UTC:20260326T210000
DTSTAMP:20260421T080241
CREATED:20260226T145244Z
LAST-MODIFIED:20260227T124302Z
UID:4046-1773171000-1774558800@lebelleartiaps.it
SUMMARY:Altri Mondi Possibili
DESCRIPTION:Il titolo scelto “Altri mondi possibili” è basato sulla necessità radicale  di ripensare al futuro\, alla sostenibilità e alla società. \nInfatti viviamo in un pianeta che stiamo  autodistruggendo e in cui i rapporti sociali stanno perdendo l’umanità. \n  \n\n  \nLuogo: Spazio Ponte dell’arte Mezzanino MM Stazione Repubblica Passante FS. Piazza Repubblica Milano \nGiorni e orari di visita: su appuntamento Martedì\, Giovedì e Venerdì dalle 16.00 alle 18.00 \nContatti: Elio Bonanomi 3336065959\, Franco Scacchi 3407910980
URL:https://lebelleartiaps.it/evento/altri-mondi-possibili/
CATEGORIES:Eventi esterni
ATTACH;FMTTYPE=image/jpeg:https://lebelleartiaps.it/wp-content/uploads/2026/02/altri-mondi-possibili.jpg
END:VEVENT
BEGIN:VEVENT
DTSTART;TZID=UTC:20260328T173000
DTEND;TZID=UTC:20260412T170000
DTSTAMP:20260421T080241
CREATED:20260224T102428Z
LAST-MODIFIED:20260224T102428Z
UID:4077-1774719000-1776013200@lebelleartiaps.it
SUMMARY:Cesarina De Vitis
DESCRIPTION:Quello che è il mondo al “femminile” nelle sue creazioni che spaziano dalle sculture con tecniche miste a rappresentazioni minimali con acquerelli. \nVisite guidate dal lunedì alla domenica dalle ore 15:00 alle ore 19:00\, la mattina su appuntamento. \nInfo: pittoribagutta@gmail.com \n  \nLuogo Sede e spazio mostre GRUPPO BAGUTTA\nCorso Giuseppe Garibaldi 17 – Milano \nda sabato 28 marzo a domenica 12 aprile 2026\ninaugurazione sabato 28 marzo ore 17:30
URL:https://lebelleartiaps.it/evento/cesarina-de-vitis/
CATEGORIES:Eventi esterni
ATTACH;FMTTYPE=image/jpeg:https://lebelleartiaps.it/wp-content/uploads/2026/02/05_2026_Bagutta_DE_VITIS_Web.jpg
END:VEVENT
BEGIN:VEVENT
DTSTART;TZID=UTC:20260402T173000
DTEND;TZID=UTC:20260417T170000
DTSTAMP:20260421T080241
CREATED:20260325T095302Z
LAST-MODIFIED:20260325T095302Z
UID:4108-1775151000-1776445200@lebelleartiaps.it
SUMMARY:LA NATURA PARLA
DESCRIPTION:Spazio  Ponte dell’Arte – Mezzanino MM Stazione Repubblica Passante FS. Piazza Repubblica Milano \nInaugurazione 2 aprile 2026 ore 17.30\nFinissage 17 aprile 2026 ore 17.30 \n“La natura parla” è un titolo che dice tutto in sé. La natura si esprime e comunica in ogni momento in ogni stagione il proprio essere parte dell’universo. La natura intesa come fiore\, pianta\, animale\, montagna\, mare\, insetto e essere umano. Ogni artista può esprimere la natura come meglio crede. \nOltretutto è iniziata la primavera\, stagione in cui la natura si risveglia e ricomincia l’avventura della vita. \n  \nGiorni e orari di visita: Martedì e Venerdì dalle 16 alle 18 \nContatti – Elio Bonanomi 3336065959\, Franco Scacchi 3407910980 \n 
URL:https://lebelleartiaps.it/evento/la-natura-parla/
CATEGORIES:Eventi esterni
ATTACH;FMTTYPE=image/jpeg:https://lebelleartiaps.it/wp-content/uploads/2026/03/la-natura-parla.jpg
END:VEVENT
BEGIN:VEVENT
DTSTART;TZID=UTC:20260404T103000
DTEND;TZID=UTC:20260426T180000
DTSTAMP:20260421T080241
CREATED:20260420T140659Z
LAST-MODIFIED:20260420T140659Z
UID:4133-1775298600-1777226400@lebelleartiaps.it
SUMMARY:Risvegli - Barbara Pietrasanta
DESCRIPTION:La mostra “Risvegli” dell’artista Barbara Pietrasanta\, ospitata dal 4 aprile al 26 aprile nella prestigiosa Sala Veratti di Varese e patrocinata da Regione Lombardia\, Comune di Varese e dal Museo della Permanente di Milano\, espone circa 24 dipinti ad olio incentrati sul tema del risveglio come momento sospeso che intercorre tra il mondo estatico della notte e l’inesplorato sopravvento del giorno. \nIl visitatore potrà addentrarsi nelle tele di Pietrasanta che ritraggono in prevalenza figure femminili\, avvolte in lenzuola mentre si svegliano dal sonno\, distese su pavimenti monocromi e accompagnate dalla presenza di una tazzina di caffè che le accompagna\, come tonico irrinunciabile\, nella realtà del mondo. I colori tenui e le pose estatiche\, le rivelano come colte nell’ attimo fuggente del qui e ora”\, situazione che mette in forte relazione emotiva l’opera con lo spettatore. \nL’allestimento della mostra di queste figure dipinte e collocate sui pannelli perimetrali della sala Veratti\, permette una congiunzione e un dialogo visivi di forte impatto tra la contemporaneità figurativa del lavoro dell’artista e gli affreschi storici presenti alle pareti e nella volta della sala\, tanto da creare un effetto scenico particolarmente avvolgente. \n  \nIl ciclo dei “Risvegli”\, sviluppato sin dall’inizio degli anni dieci del duemila\, si intreccia via via con altre tele\, collocate nel percorso\, derivanti da altri cicli sviluppati negli ultimi anni dall’artista\, quelli dedicati al tema dell’acqua e dei naufragi\, esposto all’Acquario di Milano e al Museo Galata di Genova\, e quelli dedicati al cambiamento climatico\, esposti recentemente al Museo della Permanente di Milano. \nTematiche sempre affrontate con uno sguardo particolare all’aspetto introspettivo ed emotivo\, i meccanismi psicologici che si sono messi in moto con i forti avvenimenti che hanno impattato il nostro contemporaneo come la Pandemia\, il surriscaldamento globale e le guerre. \nAttraverso le opere in mostra\, prevalentemente realizzate negli ultimi anni\, Barbara Pietrasanta tocca inoltre\, seppur restando fedele al fil rouge che guida la mostra\, i vari temi della contemporaneità – il cambiamento climatico\, le migrazioni\, la fragilità sociale – con uno sguardo che intreccia poesia\, introspezione e impegno sociale. \nDi lei scrive la Storica dell’Arte Francesca Pensa: \nLe opere descrivono dunque l’istante del passaggio dal sonno alla veglia\, con tutte le implicazioni che questo comporta nel trascorrere dal cosmo onirico\, dove si dispiegano i più indicibili e fantastici desideri\, alla realtà del mondo\, con tutte le sue ben tangibili e impegnative situazioni… \n…Accanto c’è sempre la tazzina del caffè che ci risveglia e che ci accompagna come tonico irrinunciabile nella realtà del mondo. Ma la tazzina del caffè è anche l’oggetto dove spesso si è guardato alla ricerca di un pronostico sul futuro: quelle donne sembrano appunto domandarsi quale sarà il proprio destino\, in quel giorno che allora comincia ma anche nella dimensione futura dell’esistenza che le aspetta. \n…Il  tema trattato si amplia quindi ulteriormente\,  non esaurendosi nella semplice osservazione della cronaca di un momento della giornata che tutti viviamo quotidianamente\, ma trasformandosi in  racconto del nostro porci davanti al futuro con i nostri timori e speranze. \nLe protagoniste di questo ciclo sono donne e giovani ragazze\, che aggiungono un tono autobiografico al risultato finale\, nella sensibilità soprattutto femminile di saper guardare nell’intimo\, raffigurando però una situazione che riesce a diventare collettiva. \n…Le figure sono quelle tipiche di tutta l’arte della Pietrasanta\, cui si aggiunge una studiata resa delle lenzuola avvolgenti che lasciano trasparire le anatomie di nudi nascosti\, in un moderno e originale impiego del tema millenario del panneggio. \nLa declinazione cromatica è definita da colori omogenei e mai accesi\, disposti in una attentamente studiata tonalità\, virata su azzurri\, grigi\, bianchi\, che determinano atmosfere intime e pervadenti. \n  \n\na cura e testo critico di Francesca Pensa \nInaugurazione sabato 11 aprile 2026 ore 11\,00 \nApertura al pubblico sabato 4 aprile 2026 \nOrari giovedì e venerdì dalle 15.00 alle 18.30 | sabato e domenica dalle 10\,30 alle 18\,30 Ingresso libero \nSede: Sala Veratti | via Veratti 20\, Varese \nPromossa da Associazione Le Belle Arti \nPatrocinio di Regione Lombardia\, Comune di Varese\, Museo della Permanente di Milano \n  \n\nBrevi cenni biografici \nBarbara Pietrasanta \nArtista e designer milanese\, diplomata all’Accademia di Belle Arti di Brera\, è Direttore Creativo e co-founder di Anyway Comunicazione. Docente di Art Direction allo IED\, insegna Communication Design al POLI.design\, Politecnico di Milano. E’ autrice del saggio “L’ideogramma al neon. Comunicazione\, pubblicità e lifestyle in Cina” Ed. Lupetti\, nato dalla sua lunga esperienza di insegnamento alla Dong Hua University di Shanghai. \nHa ricoperto la carica di Vicepresidente di Fondazione Museo del Design della Triennale di Milano\, di membro del Cda della Fondazione A. Castiglioni e del Direttivo del Museo della Permanente. Ambasciatrice per l’”Italian Design” 2018 nominata dal Ministero Affari Esteri e dal Ministero dei Beni Culturali con destinazione Cina del Sud e nel 2017 Egitto\, e per la XVI Settimana della Lingua Italiana al Cairo. E’ stata visiting professor all’Università di Helwan e Ain-Shams University del Cairo\, Egypt e all’Università di Xiamen\, China. Ha rappresentato l’Italia nella Giuria Internazionale del Global Design Award della città di Shenzhen\, China.  \nHa esposto a New York\, San Francisco\, Zagabria\, Dubrovnik\, Pula\, New Delhi\, Kolkata\, Mumbai\, Jaipur\, Barcellona\, Milano\, Roma\, Torino\, e altre città italiane.  \nFra le principali mostre: “Naufraghi e Naufragi” Acquario Civico di Milano e Museo Galata di Genova\, “Cross Polynations” Teatro dal Verme (Milano)\, Villa Ghirlanda (Cinisello Balsamo-MI)\, Stendhal Gallery e Ambassador Gallery\, Istituto Marconi (New York)\, Frank V.De Bellis Collection (San Francisco)\, Artissima (Torino)\, Ist. Italiano di Cultura di New Delhi e Zagabria e Dubrovnik\, Cvainer Gallery (Pola)\, Jaipur Museum (India)\, Visual Art Gallery e Arpana Gallery (Delhi) Habiart Art Centre (Kolkata). A New York è stata invitata dall’Unicef ad una rassegna dedicata alla salvaguardia del pianeta. Sua è la “Via Crucis” in affresco nella Chiesa Sacra Famiglia di Cinisello Balsamo e nella Parroquia Jesús Divino Maestro\, Huacho Perù. Sue opere sono nel Patrimonio della Provincia di Milano\, nella “Collezione Farnesina”di Roma e nella Collezione del Museo della Permanente.  \nwww.barbarapietrasanta.it \n  \n  \nPer maggiori info contattare: \nAntonio Dalle Rive | Anyway Comunicazione tel. 3385306500 \ndallerive@anywaygroup.com
URL:https://lebelleartiaps.it/evento/risvegli-barbara-pietrasanta/
CATEGORIES:Eventi esterni
ATTACH;FMTTYPE=image/png:https://lebelleartiaps.it/wp-content/uploads/2026/04/Invito-orizzontale.png
END:VEVENT
END:VCALENDAR